BEGIN:VCALENDAR
VERSION:2.0
PRODID:-//hermersberg.de - ECPv6.15.14//NONSGML v1.0//EN
CALSCALE:GREGORIAN
METHOD:PUBLISH
X-WR-CALNAME:hermersberg.de
X-ORIGINAL-URL:https://hermersberg.de/wp
X-WR-CALDESC:Veranstaltungen für hermersberg.de
REFRESH-INTERVAL;VALUE=DURATION:PT1H
X-Robots-Tag:noindex
X-PUBLISHED-TTL:PT1H
BEGIN:VTIMEZONE
TZID:Europe/Berlin
BEGIN:DAYLIGHT
TZOFFSETFROM:+0100
TZOFFSETTO:+0200
TZNAME:CEST
DTSTART:20250330T010000
END:DAYLIGHT
BEGIN:STANDARD
TZOFFSETFROM:+0200
TZOFFSETTO:+0100
TZNAME:CET
DTSTART:20251026T010000
END:STANDARD
BEGIN:DAYLIGHT
TZOFFSETFROM:+0100
TZOFFSETTO:+0200
TZNAME:CEST
DTSTART:20260329T010000
END:DAYLIGHT
BEGIN:STANDARD
TZOFFSETFROM:+0200
TZOFFSETTO:+0100
TZNAME:CET
DTSTART:20261025T010000
END:STANDARD
BEGIN:DAYLIGHT
TZOFFSETFROM:+0100
TZOFFSETTO:+0200
TZNAME:CEST
DTSTART:20270328T010000
END:DAYLIGHT
BEGIN:STANDARD
TZOFFSETFROM:+0200
TZOFFSETTO:+0100
TZNAME:CET
DTSTART:20271031T010000
END:STANDARD
END:VTIMEZONE
BEGIN:VEVENT
DTSTART;TZID=Europe/Berlin:20260629T000000
DTEND;TZID=Europe/Berlin:20260701T000000
DTSTAMP:20260420T003231
CREATED:20260127T090025Z
LAST-MODIFIED:20260127T155624Z
UID:1020-1782691200-1782864000@hermersberg.de
SUMMARY:Kinderfreizeit
DESCRIPTION:
URL:https://hermersberg.de/wp/event/kinderfreizeit-2/
LOCATION:Musikzentrum
END:VEVENT
END:VCALENDAR