BEGIN:VCALENDAR
VERSION:2.0
PRODID:-//hermersberg.de - ECPv6.15.14//NONSGML v1.0//EN
CALSCALE:GREGORIAN
METHOD:PUBLISH
X-WR-CALNAME:hermersberg.de
X-ORIGINAL-URL:https://hermersberg.de/wp
X-WR-CALDESC:Veranstaltungen für hermersberg.de
REFRESH-INTERVAL;VALUE=DURATION:PT1H
X-Robots-Tag:noindex
X-PUBLISHED-TTL:PT1H
BEGIN:VTIMEZONE
TZID:Europe/Berlin
BEGIN:DAYLIGHT
TZOFFSETFROM:+0100
TZOFFSETTO:+0200
TZNAME:CEST
DTSTART:20250330T010000
END:DAYLIGHT
BEGIN:STANDARD
TZOFFSETFROM:+0200
TZOFFSETTO:+0100
TZNAME:CET
DTSTART:20251026T010000
END:STANDARD
BEGIN:DAYLIGHT
TZOFFSETFROM:+0100
TZOFFSETTO:+0200
TZNAME:CEST
DTSTART:20260329T010000
END:DAYLIGHT
BEGIN:STANDARD
TZOFFSETFROM:+0200
TZOFFSETTO:+0100
TZNAME:CET
DTSTART:20261025T010000
END:STANDARD
BEGIN:DAYLIGHT
TZOFFSETFROM:+0100
TZOFFSETTO:+0200
TZNAME:CEST
DTSTART:20270328T010000
END:DAYLIGHT
BEGIN:STANDARD
TZOFFSETFROM:+0200
TZOFFSETTO:+0100
TZNAME:CET
DTSTART:20271031T010000
END:STANDARD
END:VTIMEZONE
BEGIN:VEVENT
DTSTART;TZID=Europe/Berlin:20260110T000000
DTEND;TZID=Europe/Berlin:20260110T000000
DTSTAMP:20260419T210133
CREATED:20260127T085959Z
LAST-MODIFIED:20260127T155414Z
UID:1009-1768003200-1768003200@hermersberg.de
SUMMARY:Sammeln Weihnachtsbäume
DESCRIPTION:Sammeln Weihnachtsbäume – Förderverein Feuerwehr
URL:https://hermersberg.de/wp/event/sammeln-weihnachtsbo-ooume/
END:VEVENT
BEGIN:VEVENT
DTSTART;TZID=Europe/Berlin:20260111T000000
DTEND;TZID=Europe/Berlin:20260111T000000
DTSTAMP:20260419T210133
CREATED:20260127T085959Z
LAST-MODIFIED:20260127T155414Z
UID:1010-1768089600-1768089600@hermersberg.de
SUMMARY:Neujahrsempfang
DESCRIPTION:Neujahrsempfang
URL:https://hermersberg.de/wp/event/neujahrsempfang-2/
LOCATION:Gasthaus Juner
END:VEVENT
BEGIN:VEVENT
DTSTART;TZID=Europe/Berlin:20260117T000000
DTEND;TZID=Europe/Berlin:20260117T000000
DTSTAMP:20260419T210133
CREATED:20260127T085959Z
LAST-MODIFIED:20260127T155414Z
UID:1011-1768608000-1768608000@hermersberg.de
SUMMARY:Dartturnier
DESCRIPTION:Dartturnier
URL:https://hermersberg.de/wp/event/dartturnier-2/
LOCATION:Gasthaus Juner
END:VEVENT
END:VCALENDAR